BEGIN:VCALENDAR
VERSION:2.0
PRODID:-//Centro Lama Tzong Khapa Treviso - ECPv6.10.3//NONSGML v1.0//EN
CALSCALE:GREGORIAN
METHOD:PUBLISH
X-WR-CALNAME:Centro Lama Tzong Khapa Treviso
X-ORIGINAL-URL:https://cltktreviso.org
X-WR-CALDESC:Eventi per Centro Lama Tzong Khapa Treviso
REFRESH-INTERVAL;VALUE=DURATION:PT1H
X-Robots-Tag:noindex
X-PUBLISHED-TTL:PT1H
BEGIN:VTIMEZONE
TZID:Europe/Helsinki
BEGIN:DAYLIGHT
TZOFFSETFROM:+0200
TZOFFSETTO:+0300
TZNAME:EEST
DTSTART:20200329T010000
END:DAYLIGHT
BEGIN:STANDARD
TZOFFSETFROM:+0300
TZOFFSETTO:+0200
TZNAME:EET
DTSTART:20201025T010000
END:STANDARD
END:VTIMEZONE
BEGIN:VEVENT
DTSTART;TZID=Europe/Helsinki:20201017T150000
DTEND;TZID=Europe/Helsinki:20201017T180000
DTSTAMP:20260421T024655
CREATED:20200913T202756Z
LAST-MODIFIED:20200925T161016Z
UID:1541-1602946800-1602957600@cltktreviso.org
SUMMARY:Iniziazione di Manjushri Bianco
DESCRIPTION:INIZIAZIONE DI MANJUSHRI BIANCO\ncon Ghesce Jampa Gelek\n\nSabato 17 ottobre dalle ore 15.00 alle 18.00\nDomenica 18 dalle ore 9.30 alle 12.30\n\nL’iniziazione di Manjushri Bianco permette di sviluppare la saggezza nel nostro continum mentale ed appartiene al primo livello del Tantra\, il Krya Tantra\, nonché al lignaggio del Tatagata\, il principale dei tre lignaggi del Tatagata\, del Loto e del Vajra.\n\nRicevendo l’iniziazione il discepolo si assume l’impegno di recitare quotidianamente per 21 volte il mantra di Manjushri Bianco.\nAl Centro sono adottate tutte le misure di sicurezza previste dai decreti Covid-19.\nPortare un telo di protezione per la seduta e la mascherina.\n\nÈ consigliata un’offerta minima di euro 60 (comprensiva di entrambi i giorni) a copertura delle spese di organizzazione.\n\nPosti in esaurimento\, solo previa prenotazione (contattare Danillo)
URL:https://cltktreviso.org/eventi/iniziazione-di-manjushri-bianco/
ATTACH;FMTTYPE=image/jpeg:https://cltktreviso.org/wp-content/uploads/2020/09/Manjusri-bianco.jpg
END:VEVENT
BEGIN:VEVENT
DTSTART;TZID=Europe/Helsinki:20201014T203000
DTEND;TZID=Europe/Helsinki:20201014T223000
DTSTAMP:20260421T024655
CREATED:20200923T212938Z
LAST-MODIFIED:20200923T212938Z
UID:1551-1602707400-1602714600@cltktreviso.org
SUMMARY:Incontro di meditazione
DESCRIPTION:Incontro settimanale nella sede del Centro Lama Tzong Khapa.
URL:https://cltktreviso.org/eventi/incontro-di-meditazione-35/
ATTACH;FMTTYPE=image/jpeg:https://cltktreviso.org/wp-content/uploads/2020/04/fb1e20_47d5a73c0bdf4c2aaf720a10a35c4244_mv2.jpg
END:VEVENT
BEGIN:VEVENT
DTSTART;TZID=Europe/Helsinki:20201007T203000
DTEND;TZID=Europe/Helsinki:20201007T223000
DTSTAMP:20260421T024655
CREATED:20200913T201808Z
LAST-MODIFIED:20200913T205004Z
UID:1532-1602102600-1602109800@cltktreviso.org
SUMMARY:Incontro di meditazione
DESCRIPTION:Incontro settimanale nella sede del Centro Lama Tzong Khapa.
URL:https://cltktreviso.org/eventi/incontro-di-meditazione-33/
ATTACH;FMTTYPE=image/jpeg:https://cltktreviso.org/wp-content/uploads/2020/04/fb1e20_47d5a73c0bdf4c2aaf720a10a35c4244_mv2.jpg
END:VEVENT
BEGIN:VEVENT
DTSTART;TZID=Europe/Helsinki:20200930T203000
DTEND;TZID=Europe/Helsinki:20200930T223000
DTSTAMP:20260421T024655
CREATED:20200913T205204Z
LAST-MODIFIED:20200913T205204Z
UID:1548-1601497800-1601505000@cltktreviso.org
SUMMARY:Incontro di meditazione
DESCRIPTION:Incontro settimanale nella sede del Centro Lama Tzong Khapa.
URL:https://cltktreviso.org/eventi/incontro-di-meditazione-34/
END:VEVENT
BEGIN:VEVENT
DTSTART;TZID=Europe/Helsinki:20200927T090000
DTEND;TZID=Europe/Helsinki:20200927T180000
DTSTAMP:20260421T024655
CREATED:20200913T202338Z
LAST-MODIFIED:20200913T202338Z
UID:1539-1601197200-1601229600@cltktreviso.org
SUMMARY:Lam Rim (sentiero graduale) - pratica meditativa
DESCRIPTION:Percorso di pratica meditativa secondo il Lam Rim.\nPrima dell’incontro alle ore 8.00 ci sarà una sessione si prostrazione ai 35 Buddha.
URL:https://cltktreviso.org/eventi/lam-rim-sentiero-graduale-pratica-meditativa-2/
END:VEVENT
BEGIN:VEVENT
DTSTART;TZID=Europe/Helsinki:20200926T090000
DTEND;TZID=Europe/Helsinki:20200926T180000
DTSTAMP:20260421T024655
CREATED:20200913T202302Z
LAST-MODIFIED:20200913T202302Z
UID:1537-1601110800-1601143200@cltktreviso.org
SUMMARY:Lam Rim (sentiero graduale) - pratica meditativa
DESCRIPTION:Percorso di pratica meditativa secondo il Lam Rim.\nPrima dell’incontro alle ore 8.00 ci sarà una sessione si prostrazione ai 35 Buddha.
URL:https://cltktreviso.org/eventi/lam-rim-sentiero-graduale-pratica-meditativa/
END:VEVENT
BEGIN:VEVENT
DTSTART;TZID=Europe/Helsinki:20200924T080000
DTEND;TZID=Europe/Helsinki:20200924T170000
DTSTAMP:20260421T024655
CREATED:20200913T205057Z
LAST-MODIFIED:20200913T205057Z
UID:1546-1600934400-1600966800@cltktreviso.org
SUMMARY:Incontro di meditazione (online)
DESCRIPTION:Incontro settimanale via Zoom.\nPer l’accesso il codice meeting è: 875 242 9728.
URL:https://cltktreviso.org/eventi/incontro-di-meditazione-online/
ATTACH;FMTTYPE=image/jpeg:https://cltktreviso.org/wp-content/uploads/2020/04/fb1e20_47d5a73c0bdf4c2aaf720a10a35c4244_mv2.jpg
END:VEVENT
BEGIN:VEVENT
DTSTART;TZID=Europe/Helsinki:20200917T203000
DTEND;TZID=Europe/Helsinki:20200917T223000
DTSTAMP:20260421T024655
CREATED:20200913T201418Z
LAST-MODIFIED:20200913T204815Z
UID:1530-1600374600-1600381800@cltktreviso.org
SUMMARY:Incontro di meditazione (online)
DESCRIPTION:Incontro settimanale via Zoom.\nPer l’accesso il codice meeting è: 875 242 9728.
URL:https://cltktreviso.org/eventi/incontro-di-meditazione-32/
ATTACH;FMTTYPE=image/jpeg:https://cltktreviso.org/wp-content/uploads/2020/04/fb1e20_47d5a73c0bdf4c2aaf720a10a35c4244_mv2.jpg
END:VEVENT
BEGIN:VEVENT
DTSTART;TZID=Europe/Helsinki:20200903T203000
DTEND;TZID=Europe/Helsinki:20200903T223000
DTSTAMP:20260421T024655
CREATED:20200903T125528Z
LAST-MODIFIED:20200903T125528Z
UID:1528-1599165000-1599172200@cltktreviso.org
SUMMARY:Incontro di meditazione
DESCRIPTION:Per questo periodo i nostri incontri si svolgeranno sulla piattaforma Zoom alle ore 20:30.\nPer l’accesso il codice meeting è: 875 242 9728.
URL:https://cltktreviso.org/eventi/incontro-di-meditazione-31/
ATTACH;FMTTYPE=image/jpeg:https://cltktreviso.org/wp-content/uploads/2020/04/fb1e20_47d5a73c0bdf4c2aaf720a10a35c4244_mv2.jpg
END:VEVENT
BEGIN:VEVENT
DTSTART;TZID=Europe/Helsinki:20200730T203000
DTEND;TZID=Europe/Helsinki:20200730T223000
DTSTAMP:20260421T024655
CREATED:20200702T204858Z
LAST-MODIFIED:20200702T204858Z
UID:1520-1596141000-1596148200@cltktreviso.org
SUMMARY:Incontro di meditazione
DESCRIPTION:Per questo periodo i nostri incontri si svolgeranno sulla piattaforma ZOOM\, ogni lunedì e giovedì alle ore 20:30.\nPer l’accesso il codice meeting sarà sempre: 875 242 9728.
URL:https://cltktreviso.org/eventi/incontro-di-meditazione-30/
ATTACH;FMTTYPE=image/jpeg:https://cltktreviso.org/wp-content/uploads/2020/04/fb1e20_47d5a73c0bdf4c2aaf720a10a35c4244_mv2.jpg
END:VEVENT
BEGIN:VEVENT
DTSTART;TZID=Europe/Helsinki:20200727T203000
DTEND;TZID=Europe/Helsinki:20200727T223000
DTSTAMP:20260421T024655
CREATED:20200702T204825Z
LAST-MODIFIED:20200702T204825Z
UID:1516-1595881800-1595889000@cltktreviso.org
SUMMARY:Incontro di meditazione
DESCRIPTION:Per questo periodo i nostri incontri si svolgeranno sulla piattaforma ZOOM\, ogni lunedì e giovedì alle ore 20:30.\nPer l’accesso il codice meeting sarà sempre: 875 242 9728.
URL:https://cltktreviso.org/eventi/incontro-di-meditazione-29/
ATTACH;FMTTYPE=image/jpeg:https://cltktreviso.org/wp-content/uploads/2020/04/fb1e20_47d5a73c0bdf4c2aaf720a10a35c4244_mv2.jpg
END:VEVENT
BEGIN:VEVENT
DTSTART;TZID=Europe/Helsinki:20200726T080000
DTEND;TZID=Europe/Helsinki:20200726T170000
DTSTAMP:20260421T024655
CREATED:20200721T135445Z
LAST-MODIFIED:20200721T135445Z
UID:1524-1595750400-1595782800@cltktreviso.org
SUMMARY:Lam Rim e consapevolezza
DESCRIPTION:Cari amici\, alcuni di noi chiedono di ritrovarci\, proponiamo quindi di incontrarci al Centro domenica 26 dalle ore 9.00 alle 17.00. Ci troviamo osservando le regole previste per questo periodo\, quindi: sanificazione del luogo\, distanze di almeno un metro\, che ognuno si porti il proprio cuscino di seduta\, un telo per proteggere il tappetino e ovviamente la mascherina.\nLa proposta è di fare la sadana dei quattro Mandala di Tara Cittamani e delle meditazioni sulla consapevolezza e sul Lam Rim.\nPrima dell’incontro alle ore 8.00 ci sarà una sessione si prostrazione ai 35 Buddha.\nVi preghiamo di comunicare a Danillo la vostra partecipazione per poter organizzare in modo opportuno l’incontro.\nSaluti cari a tutti.
URL:https://cltktreviso.org/eventi/lam-rim-e-consapevolezza/
END:VEVENT
BEGIN:VEVENT
DTSTART;TZID=Europe/Helsinki:20200723T203000
DTEND;TZID=Europe/Helsinki:20200723T223000
DTSTAMP:20260421T024655
CREATED:20200702T204746Z
LAST-MODIFIED:20200702T204746Z
UID:1512-1595536200-1595543400@cltktreviso.org
SUMMARY:Incontro di meditazione
DESCRIPTION:Per questo periodo i nostri incontri si svolgeranno sulla piattaforma ZOOM\, ogni lunedì e giovedì alle ore 20:30.\nPer l’accesso il codice meeting sarà sempre: 875 242 9728.
URL:https://cltktreviso.org/eventi/incontro-di-meditazione-28/
ATTACH;FMTTYPE=image/jpeg:https://cltktreviso.org/wp-content/uploads/2020/04/fb1e20_47d5a73c0bdf4c2aaf720a10a35c4244_mv2.jpg
END:VEVENT
BEGIN:VEVENT
DTSTART;TZID=Europe/Helsinki:20200720T203000
DTEND;TZID=Europe/Helsinki:20200720T223000
DTSTAMP:20260421T024655
CREATED:20200702T204625Z
LAST-MODIFIED:20200702T204625Z
UID:1503-1595277000-1595284200@cltktreviso.org
SUMMARY:Incontro di meditazione
DESCRIPTION:Per questo periodo i nostri incontri si svolgeranno sulla piattaforma ZOOM\, ogni lunedì e giovedì alle ore 20:30.\nPer l’accesso il codice meeting sarà sempre: 875 242 9728.
URL:https://cltktreviso.org/eventi/incontro-di-meditazione-26/
ATTACH;FMTTYPE=image/jpeg:https://cltktreviso.org/wp-content/uploads/2020/04/fb1e20_47d5a73c0bdf4c2aaf720a10a35c4244_mv2.jpg
END:VEVENT
BEGIN:VEVENT
DTSTART;TZID=Europe/Helsinki:20200716T203000
DTEND;TZID=Europe/Helsinki:20200716T223000
DTSTAMP:20260421T024655
CREATED:20200702T204702Z
LAST-MODIFIED:20200702T204702Z
UID:1508-1594931400-1594938600@cltktreviso.org
SUMMARY:Incontro di meditazione
DESCRIPTION:Per questo periodo i nostri incontri si svolgeranno sulla piattaforma ZOOM\, ogni lunedì e giovedì alle ore 20:30.\nPer l’accesso il codice meeting sarà sempre: 875 242 9728.
URL:https://cltktreviso.org/eventi/incontro-di-meditazione-27/
ATTACH;FMTTYPE=image/jpeg:https://cltktreviso.org/wp-content/uploads/2020/04/fb1e20_47d5a73c0bdf4c2aaf720a10a35c4244_mv2.jpg
END:VEVENT
BEGIN:VEVENT
DTSTART;TZID=Europe/Helsinki:20200713T203000
DTEND;TZID=Europe/Helsinki:20200713T223000
DTSTAMP:20260421T024655
CREATED:20200702T204533Z
LAST-MODIFIED:20200702T204533Z
UID:1499-1594672200-1594679400@cltktreviso.org
SUMMARY:Incontro di meditazione
DESCRIPTION:Per questo periodo i nostri incontri si svolgeranno sulla piattaforma ZOOM\, ogni lunedì e giovedì alle ore 20:30.\nPer l’accesso il codice meeting sarà sempre: 875 242 9728.
URL:https://cltktreviso.org/eventi/incontro-di-meditazione-25/
ATTACH;FMTTYPE=image/jpeg:https://cltktreviso.org/wp-content/uploads/2020/04/fb1e20_47d5a73c0bdf4c2aaf720a10a35c4244_mv2.jpg
END:VEVENT
BEGIN:VEVENT
DTSTART;TZID=Europe/Helsinki:20200709T203000
DTEND;TZID=Europe/Helsinki:20200709T223000
DTSTAMP:20260421T024655
CREATED:20200702T204456Z
LAST-MODIFIED:20200702T204456Z
UID:1495-1594326600-1594333800@cltktreviso.org
SUMMARY:Incontro di meditazione
DESCRIPTION:Per questo periodo i nostri incontri si svolgeranno sulla piattaforma ZOOM\, ogni lunedì e giovedì alle ore 20:30.\nPer l’accesso il codice meeting sarà sempre: 875 242 9728.
URL:https://cltktreviso.org/eventi/incontro-di-meditazione-24/
ATTACH;FMTTYPE=image/jpeg:https://cltktreviso.org/wp-content/uploads/2020/04/fb1e20_47d5a73c0bdf4c2aaf720a10a35c4244_mv2.jpg
END:VEVENT
BEGIN:VEVENT
DTSTART;TZID=Europe/Helsinki:20200706T203000
DTEND;TZID=Europe/Helsinki:20200706T223000
DTSTAMP:20260421T024655
CREATED:20200702T204417Z
LAST-MODIFIED:20200702T204417Z
UID:1491-1594067400-1594074600@cltktreviso.org
SUMMARY:Incontro di meditazione
DESCRIPTION:Per questo periodo i nostri incontri si svolgeranno sulla piattaforma ZOOM\, ogni lunedì e giovedì alle ore 20:30.\nPer l’accesso il codice meeting sarà sempre: 875 242 9728.
URL:https://cltktreviso.org/eventi/incontro-di-meditazione-23/
ATTACH;FMTTYPE=image/jpeg:https://cltktreviso.org/wp-content/uploads/2020/04/fb1e20_47d5a73c0bdf4c2aaf720a10a35c4244_mv2.jpg
END:VEVENT
BEGIN:VEVENT
DTSTART;TZID=Europe/Helsinki:20200702T203000
DTEND;TZID=Europe/Helsinki:20200702T223000
DTSTAMP:20260421T024655
CREATED:20200702T155915Z
LAST-MODIFIED:20200702T155915Z
UID:1487-1593721800-1593729000@cltktreviso.org
SUMMARY:Incontro di meditazione
DESCRIPTION:Per questo periodo i nostri incontri si svolgeranno sulla piattaforma ZOOM\, ogni lunedì e giovedì alle ore 20:30.\nPer l’accesso il codice meeting sarà sempre: 875 242 9728.
URL:https://cltktreviso.org/eventi/incontro-di-meditazione-22/
ATTACH;FMTTYPE=image/jpeg:https://cltktreviso.org/wp-content/uploads/2020/04/fb1e20_47d5a73c0bdf4c2aaf720a10a35c4244_mv2.jpg
END:VEVENT
BEGIN:VEVENT
DTSTART;TZID=Europe/Helsinki:20200629T203000
DTEND;TZID=Europe/Helsinki:20200629T223000
DTSTAMP:20260421T024655
CREATED:20200527T113419Z
LAST-MODIFIED:20200527T113419Z
UID:1475-1593462600-1593469800@cltktreviso.org
SUMMARY:Incontro di meditazione
DESCRIPTION:Per tutto il periodo di emergenza da COVID-19\, i nostri incontri si svolgeranno sulla piattaforma ZOOM cloud meeting\, ogni lunedì e giovedì alle ore 20:30. \nPer accedere inserisci il Meeting ID: 875 242 9728.
URL:https://cltktreviso.org/eventi/incontro-di-meditazione-20/
ATTACH;FMTTYPE=image/jpeg:https://cltktreviso.org/wp-content/uploads/2020/04/fb1e20_47d5a73c0bdf4c2aaf720a10a35c4244_mv2.jpg
END:VEVENT
BEGIN:VEVENT
DTSTART;TZID=Europe/Helsinki:20200625T203000
DTEND;TZID=Europe/Helsinki:20200625T223000
DTSTAMP:20260421T024655
CREATED:20200527T113551Z
LAST-MODIFIED:20200527T113551Z
UID:1479-1593117000-1593124200@cltktreviso.org
SUMMARY:Incontro di meditazione
DESCRIPTION:Per tutto il periodo di emergenza da COVID-19\, i nostri incontri si svolgeranno sulla piattaforma ZOOM cloud meeting\, ogni lunedì e giovedì alle ore 20:30. \nPer accedere inserisci il Meeting ID: 875 242 9728.
URL:https://cltktreviso.org/eventi/incontro-di-meditazione-21/
ATTACH;FMTTYPE=image/jpeg:https://cltktreviso.org/wp-content/uploads/2020/04/fb1e20_47d5a73c0bdf4c2aaf720a10a35c4244_mv2.jpg
END:VEVENT
BEGIN:VEVENT
DTSTART;TZID=Europe/Helsinki:20200622T203000
DTEND;TZID=Europe/Helsinki:20200622T223000
DTSTAMP:20260421T024655
CREATED:20200527T113327Z
LAST-MODIFIED:20200527T113327Z
UID:1471-1592857800-1592865000@cltktreviso.org
SUMMARY:Incontro di meditazione
DESCRIPTION:Per tutto il periodo di emergenza da COVID-19\, i nostri incontri si svolgeranno sulla piattaforma ZOOM cloud meeting\, ogni lunedì e giovedì alle ore 20:30. \nPer accedere inserisci il Meeting ID: 875 242 9728.
URL:https://cltktreviso.org/eventi/incontro-di-meditazione-19/
ATTACH;FMTTYPE=image/jpeg:https://cltktreviso.org/wp-content/uploads/2020/04/fb1e20_47d5a73c0bdf4c2aaf720a10a35c4244_mv2.jpg
END:VEVENT
BEGIN:VEVENT
DTSTART;TZID=Europe/Helsinki:20200618T203000
DTEND;TZID=Europe/Helsinki:20200618T223000
DTSTAMP:20260421T024655
CREATED:20200527T113214Z
LAST-MODIFIED:20200527T113214Z
UID:1467-1592512200-1592519400@cltktreviso.org
SUMMARY:Incontro di meditazione
DESCRIPTION:Per tutto il periodo di emergenza da COVID-19\, i nostri incontri si svolgeranno sulla piattaforma ZOOM cloud meeting\, ogni lunedì e giovedì alle ore 20:30. \nPer accedere inserisci il Meeting ID: 875 242 9728.
URL:https://cltktreviso.org/eventi/incontro-di-meditazione-18/
ATTACH;FMTTYPE=image/jpeg:https://cltktreviso.org/wp-content/uploads/2020/04/fb1e20_47d5a73c0bdf4c2aaf720a10a35c4244_mv2.jpg
END:VEVENT
BEGIN:VEVENT
DTSTART;TZID=Europe/Helsinki:20200615T203000
DTEND;TZID=Europe/Helsinki:20200615T223000
DTSTAMP:20260421T024655
CREATED:20200527T113127Z
LAST-MODIFIED:20200527T113127Z
UID:1463-1592253000-1592260200@cltktreviso.org
SUMMARY:Incontro di meditazione
DESCRIPTION:Per tutto il periodo di emergenza da COVID-19\, i nostri incontri si svolgeranno sulla piattaforma ZOOM cloud meeting\, ogni lunedì e giovedì alle ore 20:30. \nPer accedere inserisci il Meeting ID: 875 242 9728.
URL:https://cltktreviso.org/eventi/incontro-di-meditazione-17/
ATTACH;FMTTYPE=image/jpeg:https://cltktreviso.org/wp-content/uploads/2020/04/fb1e20_47d5a73c0bdf4c2aaf720a10a35c4244_mv2.jpg
END:VEVENT
BEGIN:VEVENT
DTSTART;TZID=Europe/Helsinki:20200611T203000
DTEND;TZID=Europe/Helsinki:20200611T223000
DTSTAMP:20260421T024655
CREATED:20200527T113043Z
LAST-MODIFIED:20200527T113043Z
UID:1459-1591907400-1591914600@cltktreviso.org
SUMMARY:Incontro di meditazione
DESCRIPTION:Per tutto il periodo di emergenza da COVID-19\, i nostri incontri si svolgeranno sulla piattaforma ZOOM cloud meeting\, ogni lunedì e giovedì alle ore 20:30. \nPer accedere inserisci il Meeting ID: 875 242 9728.
URL:https://cltktreviso.org/eventi/incontro-di-meditazione-16/
ATTACH;FMTTYPE=image/jpeg:https://cltktreviso.org/wp-content/uploads/2020/04/fb1e20_47d5a73c0bdf4c2aaf720a10a35c4244_mv2.jpg
END:VEVENT
BEGIN:VEVENT
DTSTART;TZID=Europe/Helsinki:20200608T203000
DTEND;TZID=Europe/Helsinki:20200608T223000
DTSTAMP:20260421T024655
CREATED:20200527T112958Z
LAST-MODIFIED:20200527T112958Z
UID:1455-1591648200-1591655400@cltktreviso.org
SUMMARY:Incontro di meditazione
DESCRIPTION:Per tutto il periodo di emergenza da COVID-19\, i nostri incontri si svolgeranno sulla piattaforma ZOOM cloud meeting\, ogni lunedì e giovedì alle ore 20:30. \nPer accedere inserisci il Meeting ID: 875 242 9728.
URL:https://cltktreviso.org/eventi/incontro-di-meditazione-15/
ATTACH;FMTTYPE=image/jpeg:https://cltktreviso.org/wp-content/uploads/2020/04/fb1e20_47d5a73c0bdf4c2aaf720a10a35c4244_mv2.jpg
END:VEVENT
BEGIN:VEVENT
DTSTART;TZID=Europe/Helsinki:20200604T203000
DTEND;TZID=Europe/Helsinki:20200604T223000
DTSTAMP:20260421T024655
CREATED:20200527T112442Z
LAST-MODIFIED:20200527T112442Z
UID:1451-1591302600-1591309800@cltktreviso.org
SUMMARY:Incontro di meditazione
DESCRIPTION:Per tutto il periodo di emergenza da COVID-19\, i nostri incontri si svolgeranno sulla piattaforma ZOOM cloud meeting\, ogni lunedì e giovedì alle ore 20:30. \nPer accedere inserisci il Meeting ID: 875 242 9728.
URL:https://cltktreviso.org/eventi/incontro-di-meditazione-14/
ATTACH;FMTTYPE=image/jpeg:https://cltktreviso.org/wp-content/uploads/2020/04/fb1e20_47d5a73c0bdf4c2aaf720a10a35c4244_mv2.jpg
END:VEVENT
BEGIN:VEVENT
DTSTART;TZID=Europe/Helsinki:20200601T203000
DTEND;TZID=Europe/Helsinki:20200601T223000
DTSTAMP:20260421T024655
CREATED:20200527T112342Z
LAST-MODIFIED:20200527T112342Z
UID:1447-1591043400-1591050600@cltktreviso.org
SUMMARY:Incontro di meditazione
DESCRIPTION:Per tutto il periodo di emergenza da COVID-19\, i nostri incontri si svolgeranno sulla piattaforma ZOOM cloud meeting\, ogni lunedì e giovedì alle ore 20:30. \nPer accedere inserisci il Meeting ID: 875 242 9728.
URL:https://cltktreviso.org/eventi/incontro-di-meditazione-13/
ATTACH;FMTTYPE=image/jpeg:https://cltktreviso.org/wp-content/uploads/2020/04/fb1e20_47d5a73c0bdf4c2aaf720a10a35c4244_mv2.jpg
END:VEVENT
BEGIN:VEVENT
DTSTART;TZID=Europe/Helsinki:20200528T203000
DTEND;TZID=Europe/Helsinki:20200528T223000
DTSTAMP:20260421T024655
CREATED:20200505T133316Z
LAST-MODIFIED:20200505T133316Z
UID:1410-1590697800-1590705000@cltktreviso.org
SUMMARY:Incontro di meditazione
DESCRIPTION:Per tutto il periodo di emergenza da COVID-19\, i nostri incontri si svolgeranno sulla piattaforma ZOOM cloud meeting\, ogni lunedì e giovedì alle ore 20:30. \nPer accedere inserisci il Meeting ID: 875 242 9728.
URL:https://cltktreviso.org/eventi/incontro-di-meditazione-12/
ATTACH;FMTTYPE=image/jpeg:https://cltktreviso.org/wp-content/uploads/2020/04/fb1e20_47d5a73c0bdf4c2aaf720a10a35c4244_mv2.jpg
END:VEVENT
BEGIN:VEVENT
DTSTART;TZID=Europe/Helsinki:20200525T203000
DTEND;TZID=Europe/Helsinki:20200525T223000
DTSTAMP:20260421T024655
CREATED:20200505T133250Z
LAST-MODIFIED:20200505T133250Z
UID:1411-1590438600-1590445800@cltktreviso.org
SUMMARY:Incontro di meditazione
DESCRIPTION:Per tutto il periodo di emergenza da COVID-19\, i nostri incontri si svolgeranno sulla piattaforma ZOOM cloud meeting\, ogni lunedì e giovedì alle ore 20:30. \nPer accedere inserisci il Meeting ID: 875 242 9728.
URL:https://cltktreviso.org/eventi/incontro-di-meditazione-11/
END:VEVENT
END:VCALENDAR