BEGIN:VCALENDAR
VERSION:2.0
PRODID:-//Centro Lama Tzong Khapa Treviso - ECPv6.10.3//NONSGML v1.0//EN
CALSCALE:GREGORIAN
METHOD:PUBLISH
X-WR-CALNAME:Centro Lama Tzong Khapa Treviso
X-ORIGINAL-URL:https://cltktreviso.org
X-WR-CALDESC:Eventi per Centro Lama Tzong Khapa Treviso
REFRESH-INTERVAL;VALUE=DURATION:PT1H
X-Robots-Tag:noindex
X-PUBLISHED-TTL:PT1H
BEGIN:VTIMEZONE
TZID:Europe/Helsinki
BEGIN:DAYLIGHT
TZOFFSETFROM:+0200
TZOFFSETTO:+0300
TZNAME:EEST
DTSTART:20230326T010000
END:DAYLIGHT
BEGIN:STANDARD
TZOFFSETFROM:+0300
TZOFFSETTO:+0200
TZNAME:EET
DTSTART:20231029T010000
END:STANDARD
BEGIN:DAYLIGHT
TZOFFSETFROM:+0200
TZOFFSETTO:+0300
TZNAME:EEST
DTSTART:20240331T010000
END:DAYLIGHT
BEGIN:STANDARD
TZOFFSETFROM:+0300
TZOFFSETTO:+0200
TZNAME:EET
DTSTART:20241027T010000
END:STANDARD
END:VTIMEZONE
BEGIN:VEVENT
DTSTART;TZID=Europe/Helsinki:20240418T203000
DTEND;TZID=Europe/Helsinki:20240418T220000
DTSTAMP:20260419T203826
CREATED:20240413T063239Z
LAST-MODIFIED:20240413T063239Z
UID:2554-1713472200-1713477600@cltktreviso.org
SUMMARY:Puja dei Quattro Mandala
DESCRIPTION:Ogni giovedì alle 20.30\, ci incontriamo per la Puja dei Quattro Mandala di Tara Cittamani.\nQuesto rituale è un potente supporto per la nostra pratica del Dharma e per il raggiungimento dei nostri obiettivi temporali e finali. Non è necessario aver preso specifiche iniziazioni per praticarlo\, sono sufficienti motivazioni genuine ed intenzioni benevole.\n\n Una Puja è un atto di adorazione\, un rituale di invocazione verso una particolare Divinità e le sue qualità. La Puja dei 4 mandala a Tara Cittamani consiste nell’offerta di quattro mandala\, ossia quattro doni – esterni o interni\, tangibili o visualizzati – che tradizionalmente rappresentano l’offerta dell’intero universo alla divinità meditativa.\n\n Tara è una personificazione femminile della mente illuminata\, è conosciuta come Tara la Liberatrice e madre di tutti i buddha. È chiamata a portare beneficio – anche in situazioni che riguardano la famiglia\, le relazioni\, gli affari e la carriera – e per proteggerci da tutte le negatività. Viene invocata anche nei momenti di emergenza\, di angoscia e difficoltà personali\, di problemi di salute\, per la rapida rimozione degli ostacoli e quando è necessaria una rapida saggezza. La speciale energia di Tara è la chiave per superare tutte le paure esterne\, interne e segrete.\n\n\n\nRichieste di preghiera. Se desiderate richiedere una dedica per voi o per qualcun altro che potrebbe trarre beneficio da questa pratica\, è sufficiente inviare una mail a centrolamatzongkhapa.tv@gmail.com specificando “richiesta dediche Puja Tara”\, il nome della persona ed il messaggio di dedica.\n\n\n\nSponsorizzazione della Puja. E’ possibile sponsorizzare liberamente il rituale\, grande merito è creato dal contributo di qualsiasi importo. Vi siamo grati per la vostra generosità!\n\nBonifico a Centro Lama Tzong Khapa\nCausale: Puja Tara IBAN: IT21U0200812013000105213809\n\n\nLink per collegarsi a ZOOM: https://us02web.zoom.us/j/8752429728\n\nQui potete scaricare la sadhana e le lodi\nhttps://cltktreviso.org/…/rituale-abbreviato…/\nhttps://cltktreviso.org/…/Lodi-alle-21-Tara-.pdf
URL:https://cltktreviso.org/eventi/puja-dei-quattro-mandala-7/
ATTACH;FMTTYPE=image/jpeg:https://cltktreviso.org/wp-content/uploads/2024/04/434164778_843871691110908_5650488672375634606_n.jpg
END:VEVENT
BEGIN:VEVENT
DTSTART;TZID=Europe/Helsinki:20240417T203000
DTEND;TZID=Europe/Helsinki:20240417T223000
DTSTAMP:20260419T203826
CREATED:20240222T170546Z
LAST-MODIFIED:20240222T170546Z
UID:2548-1713385800-1713393000@cltktreviso.org
SUMMARY:Incontro di meditazione e approfondimento
DESCRIPTION:Incontro di meditazione e approfondimento su soggetti di Dharma. \nE’ possibile partecipare sia in presenza al Centro che online attraverso la piattaforma Zoom al seguente link: https://us04web.zoom.us/j/8752429728
URL:https://cltktreviso.org/eventi/incontro-di-meditazione-e-approfondimento-9/
ATTACH;FMTTYPE=image/jpeg:https://cltktreviso.org/wp-content/uploads/2024/02/417519518_814697304028347_1393701050380005342_n.jpg
END:VEVENT
BEGIN:VEVENT
DTSTART;TZID=Europe/Helsinki:20240413T080000
DTEND;TZID=Europe/Helsinki:20240414T180000
DTSTAMP:20260419T203826
CREATED:20240217T114118Z
LAST-MODIFIED:20240217T114118Z
UID:2490-1712995200-1713117600@cltktreviso.org
SUMMARY:Ritiro
DESCRIPTION:“Grazie alla forza del calmo dimorare la mente non verrà mossa dai venti della concezioni\, come una lampada posta al riparo del vento.” \nIn questo weekend ci addestreremo a sviluppare le qualità necessarie per realizzare lo stato della mente definito “calmo dimorare” (Shinè). Il percorso proposto è praticabile anche da chi non avesse già dimestichezza con la meditazione. \nDate: 09/10 Marzo – 13/14 Aprile – 08/09 Giugno \nOrari: 09\,00 – 18\,00 \nFacoltativo dalle 08\,00 alle 09\,00 Prostrazioni ai 35 Bhudda. \nIl ritiro è condotto da Danillo.
URL:https://cltktreviso.org/eventi/ritiro-2/
END:VEVENT
BEGIN:VEVENT
DTSTART;TZID=Europe/Helsinki:20240410T203000
DTEND;TZID=Europe/Helsinki:20240410T223000
DTSTAMP:20260419T203826
CREATED:20240222T170051Z
LAST-MODIFIED:20240222T170051Z
UID:2533-1712781000-1712788200@cltktreviso.org
SUMMARY:Incontro di meditazione e approfondimento
DESCRIPTION:Incontro di meditazione e approfondimento su soggetti di Dharma. \nE’ possibile partecipare sia in presenza al Centro che online attraverso la piattaforma Zoom al seguente link: https://us04web.zoom.us/j/8752429728
URL:https://cltktreviso.org/eventi/incontro-di-meditazione-e-approfondimento-7/
ATTACH;FMTTYPE=image/jpeg:https://cltktreviso.org/wp-content/uploads/2024/02/417519518_814697304028347_1393701050380005342_n.jpg
END:VEVENT
BEGIN:VEVENT
DTSTART;TZID=Europe/Helsinki:20240406T150000
DTEND;TZID=Europe/Helsinki:20240406T170000
DTSTAMP:20260419T203826
CREATED:20240222T165525Z
LAST-MODIFIED:20240222T165525Z
UID:2525-1712415600-1712422800@cltktreviso.org
SUMMARY:La diffusione del buddhismo in Tibet e le sue pratiche
DESCRIPTION:
URL:https://cltktreviso.org/eventi/la-diffusione-del-buddhismo-in-tibet-e-le-sue-pratiche/
ATTACH;FMTTYPE=image/png:https://cltktreviso.org/wp-content/uploads/2024/02/1.png
END:VEVENT
BEGIN:VEVENT
DTSTART;TZID=Europe/Helsinki:20240403T203000
DTEND;TZID=Europe/Helsinki:20240403T223000
DTSTAMP:20260419T203826
CREATED:20240222T170033Z
LAST-MODIFIED:20240222T170033Z
UID:2532-1712176200-1712183400@cltktreviso.org
SUMMARY:Incontro di meditazione e approfondimento
DESCRIPTION:Incontro di meditazione e approfondimento su soggetti di Dharma. \nE’ possibile partecipare sia in presenza al Centro che online attraverso la piattaforma Zoom al seguente link: https://us04web.zoom.us/j/8752429728
URL:https://cltktreviso.org/eventi/incontro-di-meditazione-e-approfondimento-6/
ATTACH;FMTTYPE=image/jpeg:https://cltktreviso.org/wp-content/uploads/2024/02/417519518_814697304028347_1393701050380005342_n.jpg
END:VEVENT
BEGIN:VEVENT
DTSTART;TZID=Europe/Helsinki:20240328T203000
DTEND;TZID=Europe/Helsinki:20240328T220000
DTSTAMP:20260419T203826
CREATED:20240222T170425Z
LAST-MODIFIED:20240222T170425Z
UID:2544-1711657800-1711663200@cltktreviso.org
SUMMARY:Puja dei Quattro Mandala
DESCRIPTION:Ogni giovedì\, alle ore 20.30\, ci incontriamo al Centro per la Puja dei Quattro Mandala di Tara Cittamani.\nTale pratica ci è stata consigliata dal nostro prezioso Maestro\, il Ven. Ghesce Ciampa Ghelek\, per essere di beneficio a tutti gli esseri e in particolare al CLTK\, affinché possa continuare ad offrire insegnamenti di Dharma e opportunità di pratica\, nelle migliori condizioni possibili.\nSarà possibile partecipare anche via Zoom\n(ID 8752429728)
URL:https://cltktreviso.org/eventi/puja-dei-quattro-mandala-5/
ATTACH;FMTTYPE=image/jpeg:https://cltktreviso.org/wp-content/uploads/2024/02/417433207_817863310378413_1922317190290912913_n.jpg
END:VEVENT
BEGIN:VEVENT
DTSTART;TZID=Europe/Helsinki:20240327T203000
DTEND;TZID=Europe/Helsinki:20240327T223000
DTSTAMP:20260419T203826
CREATED:20240222T170021Z
LAST-MODIFIED:20240222T170021Z
UID:2531-1711571400-1711578600@cltktreviso.org
SUMMARY:Incontro di meditazione e approfondimento
DESCRIPTION:Incontro di meditazione e approfondimento su soggetti di Dharma. \nE’ possibile partecipare sia in presenza al Centro che online attraverso la piattaforma Zoom al seguente link: https://us04web.zoom.us/j/8752429728
URL:https://cltktreviso.org/eventi/incontro-di-meditazione-e-approfondimento-5/
ATTACH;FMTTYPE=image/jpeg:https://cltktreviso.org/wp-content/uploads/2024/02/417519518_814697304028347_1393701050380005342_n.jpg
END:VEVENT
BEGIN:VEVENT
DTSTART;TZID=Europe/Helsinki:20240321T203000
DTEND;TZID=Europe/Helsinki:20240321T220000
DTSTAMP:20260419T203826
CREATED:20240222T170429Z
LAST-MODIFIED:20240222T170429Z
UID:2545-1711053000-1711058400@cltktreviso.org
SUMMARY:Puja dei Quattro Mandala
DESCRIPTION:Ogni giovedì\, alle ore 20.30\, ci incontriamo al Centro per la Puja dei Quattro Mandala di Tara Cittamani.\nTale pratica ci è stata consigliata dal nostro prezioso Maestro\, il Ven. Ghesce Ciampa Ghelek\, per essere di beneficio a tutti gli esseri e in particolare al CLTK\, affinché possa continuare ad offrire insegnamenti di Dharma e opportunità di pratica\, nelle migliori condizioni possibili.\nSarà possibile partecipare anche via Zoom\n(ID 8752429728)
URL:https://cltktreviso.org/eventi/puja-dei-quattro-mandala-6/
ATTACH;FMTTYPE=image/jpeg:https://cltktreviso.org/wp-content/uploads/2024/02/417433207_817863310378413_1922317190290912913_n.jpg
END:VEVENT
BEGIN:VEVENT
DTSTART;TZID=Europe/Helsinki:20240320T203000
DTEND;TZID=Europe/Helsinki:20240320T223000
DTSTAMP:20260419T203826
CREATED:20240222T170009Z
LAST-MODIFIED:20240222T170009Z
UID:2530-1710966600-1710973800@cltktreviso.org
SUMMARY:Incontro di meditazione e approfondimento
DESCRIPTION:Incontro di meditazione e approfondimento su soggetti di Dharma. \nE’ possibile partecipare sia in presenza al Centro che online attraverso la piattaforma Zoom al seguente link: https://us04web.zoom.us/j/8752429728
URL:https://cltktreviso.org/eventi/incontro-di-meditazione-e-approfondimento-4/
ATTACH;FMTTYPE=image/jpeg:https://cltktreviso.org/wp-content/uploads/2024/02/417519518_814697304028347_1393701050380005342_n.jpg
END:VEVENT
BEGIN:VEVENT
DTSTART;TZID=Europe/Helsinki:20240319T203000
DTEND;TZID=Europe/Helsinki:20240319T220000
DTSTAMP:20260419T203826
CREATED:20240313T143502Z
LAST-MODIFIED:20240313T143502Z
UID:2552-1710880200-1710885600@cltktreviso.org
SUMMARY:Cos'è il Buddhismo\, nuovo corso con Ettore Massa
DESCRIPTION:Un nuovo percorso pensato per approcciarsi al Buddhismo\, promosso dai centri Fpmt di Napoli\, Firenze\, Treviso e Verona. Per info e adesioni: https://tknapoli.org/cose-il-buddhismo-il-nuovo-corso-online-con-ettore-massa/
URL:https://cltktreviso.org/eventi/cose-il-buddhismo-nuovo-corso-con-ettore-massa/
END:VEVENT
BEGIN:VEVENT
DTSTART;TZID=Europe/Helsinki:20240316T150000
DTEND;TZID=Europe/Helsinki:20240316T170000
DTSTAMP:20260419T203826
CREATED:20240222T164820Z
LAST-MODIFIED:20240222T164839Z
UID:2518-1710601200-1710608400@cltktreviso.org
SUMMARY:Concetti etici e insegnamento della salvezza nel buddhismo Mahayana indiano
DESCRIPTION:
URL:https://cltktreviso.org/eventi/concetti-etici-e-insegnamento-della-salvezza-nel-buddhismo-mahayana-indiano/
ATTACH;FMTTYPE=image/png:https://cltktreviso.org/wp-content/uploads/2024/02/4.png
END:VEVENT
BEGIN:VEVENT
DTSTART;TZID=Europe/Helsinki:20240314T203000
DTEND;TZID=Europe/Helsinki:20240314T220000
DTSTAMP:20260419T203826
CREATED:20240222T163001Z
LAST-MODIFIED:20240222T163001Z
UID:2506-1710448200-1710453600@cltktreviso.org
SUMMARY:Puja dei Quattro Mandala
DESCRIPTION:Ogni giovedì\, alle ore 20.30\, ci incontriamo al Centro per la Puja dei Quattro Mandala di Tara Cittamani.\nTale pratica ci è stata consigliata dal nostro prezioso Maestro\, il Ven. Ghesce Ciampa Ghelek\, per essere di beneficio a tutti gli esseri e in particolare al CLTK\, affinché possa continuare ad offrire insegnamenti di Dharma e opportunità di pratica\, nelle migliori condizioni possibili.\nSarà possibile partecipare anche via Zoom\n(ID 8752429728)
URL:https://cltktreviso.org/eventi/puja-dei-quattro-mandala-4/
END:VEVENT
BEGIN:VEVENT
DTSTART;TZID=Europe/Helsinki:20240313T203000
DTEND;TZID=Europe/Helsinki:20240313T223000
DTSTAMP:20260419T203826
CREATED:20240222T164205Z
LAST-MODIFIED:20240222T164205Z
UID:2516-1710361800-1710369000@cltktreviso.org
SUMMARY:Incontro di meditazione e approfondimento
DESCRIPTION:Incontro di meditazione e approfondimento su soggetti di Dharma. \nE’ possibile partecipare sia in presenza al Centro che online attraverso la piattaforma Zoom al seguente link: https://us04web.zoom.us/j/8752429728
URL:https://cltktreviso.org/eventi/incontro-di-meditazione-e-approfondimento-3/
ATTACH;FMTTYPE=image/jpeg:https://cltktreviso.org/wp-content/uploads/2024/02/417519518_814697304028347_1393701050380005342_n.jpg
END:VEVENT
BEGIN:VEVENT
DTSTART;TZID=Europe/Helsinki:20240309T080000
DTEND;TZID=Europe/Helsinki:20240310T180000
DTSTAMP:20260419T203826
CREATED:20240217T114047Z
LAST-MODIFIED:20240217T114047Z
UID:2487-1709971200-1710093600@cltktreviso.org
SUMMARY:Ritiro
DESCRIPTION:“Grazie alla forza del calmo dimorare la mente non verrà mossa dai venti della concezioni\, come una lampada posta al riparo del vento.” \nIn questo weekend ci addestreremo a sviluppare le qualità necessarie per realizzare lo stato della mente definito “calmo dimorare” (Shinè). Il percorso proposto è praticabile anche da chi non avesse già dimestichezza con la meditazione. \nDate: 09/10 Marzo – 13/14 Aprile – 08/09 Giugno \nOrari: 09\,00 – 18\,00 \nFacoltativo dalle 08\,00 alle 09\,00 Prostrazioni ai 35 Bhudda. \nIl ritiro è condotto da Danillo.
URL:https://cltktreviso.org/eventi/ritiro/
END:VEVENT
BEGIN:VEVENT
DTSTART;TZID=Europe/Helsinki:20240307T203000
DTEND;TZID=Europe/Helsinki:20240307T220000
DTSTAMP:20260419T203826
CREATED:20240222T162925Z
LAST-MODIFIED:20240222T162925Z
UID:2504-1709843400-1709848800@cltktreviso.org
SUMMARY:Puja dei Quattro Mandala
DESCRIPTION:Ogni giovedì\, alle ore 20.30\, ci incontriamo al Centro per la Puja dei Quattro Mandala di Tara Cittamani.\nTale pratica ci è stata consigliata dal nostro prezioso Maestro\, il Ven. Ghesce Ciampa Ghelek\, per essere di beneficio a tutti gli esseri e in particolare al CLTK\, affinché possa continuare ad offrire insegnamenti di Dharma e opportunità di pratica\, nelle migliori condizioni possibili.\nSarà possibile partecipare anche via Zoom\n(ID 8752429728)
URL:https://cltktreviso.org/eventi/puja-dei-quattro-mandala-3/
ATTACH;FMTTYPE=image/jpeg:https://cltktreviso.org/wp-content/uploads/2024/02/417433207_817863310378413_1922317190290912913_n.jpg
END:VEVENT
BEGIN:VEVENT
DTSTART;TZID=Europe/Helsinki:20240306T083000
DTEND;TZID=Europe/Helsinki:20240306T223000
DTSTAMP:20260419T203826
CREATED:20240222T164100Z
LAST-MODIFIED:20240222T164100Z
UID:2514-1709713800-1709764200@cltktreviso.org
SUMMARY:Incontro di meditazione e approfondimento
DESCRIPTION:Incontro di meditazione e approfondimento su soggetti di Dharma. \nE’ possibile partecipare sia in presenza al Centro che online attraverso la piattaforma Zoom al seguente link: https://us04web.zoom.us/j/8752429728
URL:https://cltktreviso.org/eventi/incontro-di-meditazione-e-approfondimento-2/
ATTACH;FMTTYPE=image/jpeg:https://cltktreviso.org/wp-content/uploads/2024/02/417519518_814697304028347_1393701050380005342_n.jpg
END:VEVENT
BEGIN:VEVENT
DTSTART;TZID=Europe/Helsinki:20240302T170000
DTEND;TZID=Europe/Helsinki:20240302T173000
DTSTAMP:20260419T203827
CREATED:20240222T163407Z
LAST-MODIFIED:20240222T165105Z
UID:2508-1709398800-1709400600@cltktreviso.org
SUMMARY:La magnificenza del Gandhara
DESCRIPTION:Vi aspettiamo numerosi per un evento unico nell’ambito del corso “Civiltà e cultura buddhista.”\n\nDopo la narrazione (ore 15:00) su” Buddha e i suoi tempi” e “I testi sacri in pali”! \n Alle ore 17:00\, avremo l’onore di presentare in anteprima assoluta il documentario “La magnificenza del Gandhara”. La prima puntata ci condurrà attraverso la storia affascinante di questa regione intrisa di spiritualità e arte.\n Un’opportunità imperdibile per immergersi nel mondo del Buddismo e scoprire i tesori nascosti del Gandhara!\n\nVi aspettiamo per una giornata di conoscenza e ispirazione. Non mancate! 
URL:https://cltktreviso.org/eventi/buddha-e-i-suoi-tempi-i-testi-sacri-in-pali-la-magnificenza-del-gandhara/
ATTACH;FMTTYPE=image/jpeg:https://cltktreviso.org/wp-content/uploads/2024/02/417503870_817174767113934_151009036959656798_n.jpg
END:VEVENT
BEGIN:VEVENT
DTSTART;TZID=Europe/Helsinki:20240302T150000
DTEND;TZID=Europe/Helsinki:20240302T170000
DTSTAMP:20260419T203827
CREATED:20240222T165032Z
LAST-MODIFIED:20240222T165032Z
UID:2521-1709391600-1709398800@cltktreviso.org
SUMMARY:Buddha e i suoi tempi. I testi sacri in pali.
DESCRIPTION:
URL:https://cltktreviso.org/eventi/buddha-e-i-suoi-tempi-i-testi-sacri-in-pali/
ATTACH;FMTTYPE=image/png:https://cltktreviso.org/wp-content/uploads/2024/02/3.png
END:VEVENT
BEGIN:VEVENT
DTSTART;TZID=Europe/Helsinki:20240229T203000
DTEND;TZID=Europe/Helsinki:20240229T220000
DTSTAMP:20260419T203827
CREATED:20240222T162833Z
LAST-MODIFIED:20240222T162833Z
UID:2502-1709238600-1709244000@cltktreviso.org
SUMMARY:Puja dei Quattro Mandala
DESCRIPTION:Ogni giovedì\, alle ore 20.30\, ci incontriamo al Centro per la Puja dei Quattro Mandala di Tara Cittamani.\nTale pratica ci è stata consigliata dal nostro prezioso Maestro\, il Ven. Ghesce Ciampa Ghelek\, per essere di beneficio a tutti gli esseri e in particolare al CLTK\, affinché possa continuare ad offrire insegnamenti di Dharma e opportunità di pratica\, nelle migliori condizioni possibili.\nSarà possibile partecipare anche via Zoom\n(ID 8752429728)
URL:https://cltktreviso.org/eventi/puja-dei-quattro-mandala-2/
ATTACH;FMTTYPE=image/jpeg:https://cltktreviso.org/wp-content/uploads/2024/02/417433207_817863310378413_1922317190290912913_n.jpg
END:VEVENT
BEGIN:VEVENT
DTSTART;TZID=Europe/Helsinki:20240228T203000
DTEND;TZID=Europe/Helsinki:20240228T223000
DTSTAMP:20260419T203827
CREATED:20240222T163721Z
LAST-MODIFIED:20240222T163721Z
UID:2511-1709152200-1709159400@cltktreviso.org
SUMMARY:Incontro di meditazione e approfondimento
DESCRIPTION:Incontro di meditazione e approfondimento su soggetti di Dharma. \nE’ possibile partecipare sia in presenza al Centro che online attraverso la piattaforma Zoom al seguente link: https://us04web.zoom.us/j/8752429728
URL:https://cltktreviso.org/eventi/incontro-di-meditazione-e-approfondimento/
ATTACH;FMTTYPE=image/jpeg:https://cltktreviso.org/wp-content/uploads/2024/02/417519518_814697304028347_1393701050380005342_n.jpg
END:VEVENT
BEGIN:VEVENT
DTSTART;TZID=Europe/Helsinki:20240227T200000
DTEND;TZID=Europe/Helsinki:20240227T220000
DTSTAMP:20260419T203827
CREATED:20240222T170844Z
LAST-MODIFIED:20240222T170844Z
UID:2550-1709064000-1709071200@cltktreviso.org
SUMMARY:Corso di meditazione - Samatha e Karuna
DESCRIPTION:
URL:https://cltktreviso.org/eventi/corso-di-meditazione-samatha-e-karuna/
END:VEVENT
BEGIN:VEVENT
DTSTART;TZID=Europe/Helsinki:20240222T203000
DTEND;TZID=Europe/Helsinki:20240222T220000
DTSTAMP:20260419T203827
CREATED:20240222T162749Z
LAST-MODIFIED:20240222T162749Z
UID:2499-1708633800-1708639200@cltktreviso.org
SUMMARY:Puja dei Quattro Mandala
DESCRIPTION:Ogni giovedì\, alle ore 20.30\, ci incontriamo al Centro per la Puja dei Quattro Mandala di Tara Cittamani.\nTale pratica ci è stata consigliata dal nostro prezioso Maestro\, il Ven. Ghesce Ciampa Ghelek\, per essere di beneficio a tutti gli esseri e in particolare al CLTK\, affinché possa continuare ad offrire insegnamenti di Dharma e opportunità di pratica\, nelle migliori condizioni possibili.\nSarà possibile partecipare anche via Zoom\n(ID 8752429728)
URL:https://cltktreviso.org/eventi/puja-dei-quattro-mandala/
ATTACH;FMTTYPE=image/jpeg:https://cltktreviso.org/wp-content/uploads/2024/02/417433207_817863310378413_1922317190290912913_n.jpg
END:VEVENT
BEGIN:VEVENT
DTSTART;TZID=Europe/Helsinki:20231222T203000
DTEND;TZID=Europe/Helsinki:20231222T220000
DTSTAMP:20260419T203827
CREATED:20230904T172212Z
LAST-MODIFIED:20230904T172212Z
UID:2456-1703277000-1703282400@cltktreviso.org
SUMMARY:Pratica dello Tzog
DESCRIPTION:Pratica dello Tzog. Ore 20.30 (solo in presenza).
URL:https://cltktreviso.org/eventi/pratica-dello-tzog-7/
END:VEVENT
BEGIN:VEVENT
DTSTART;TZID=Europe/Helsinki:20231207T203000
DTEND;TZID=Europe/Helsinki:20231207T220000
DTSTAMP:20260419T203827
CREATED:20230904T172149Z
LAST-MODIFIED:20230904T172149Z
UID:2454-1701981000-1701986400@cltktreviso.org
SUMMARY:Pratica dello Tzog
DESCRIPTION:Pratica dello Tzog. Ore 20.30 (solo in presenza).
URL:https://cltktreviso.org/eventi/pratica-dello-tzog-6/
END:VEVENT
BEGIN:VEVENT
DTSTART;TZID=Europe/Helsinki:20231202T080000
DTEND;TZID=Europe/Helsinki:20231203T170000
DTSTAMP:20260419T203827
CREATED:20230904T172101Z
LAST-MODIFIED:20230904T172101Z
UID:2451-1701504000-1701622800@cltktreviso.org
SUMMARY:Ritiro di meditazione
DESCRIPTION:Ritiro di meditazione finalizzato a sviluppare capacità di attenzione\, concentrazione\, consapevolezza per favorire la\npresenza mentale.
URL:https://cltktreviso.org/eventi/ritiro-di-meditazione-8/
END:VEVENT
BEGIN:VEVENT
DTSTART;TZID=Europe/Helsinki:20231122T203000
DTEND;TZID=Europe/Helsinki:20231122T220000
DTSTAMP:20260419T203827
CREATED:20230904T171942Z
LAST-MODIFIED:20230904T171942Z
UID:2448-1700685000-1700690400@cltktreviso.org
SUMMARY:Pratica dello Tzog
DESCRIPTION:Pratica dello Tzog. Ore 20.30 (solo in presenza).
URL:https://cltktreviso.org/eventi/pratica-dello-tzog-5/
END:VEVENT
BEGIN:VEVENT
DTSTART;TZID=Europe/Helsinki:20231111T080000
DTEND;TZID=Europe/Helsinki:20231112T170000
DTSTAMP:20260419T203827
CREATED:20230904T171912Z
LAST-MODIFIED:20230904T171912Z
UID:2445-1699689600-1699808400@cltktreviso.org
SUMMARY:La Preziosa Ghirlanda - Ven. Ghesce Jampa Gelek
DESCRIPTION:Ven. Ghesce Jampa Gelek prosegue il commentario a La Preziosa Ghirlanda dei consigli al Sovrano (Rajaparikatharatnamala) di Aryia Nagarjuna.
URL:https://cltktreviso.org/eventi/la-preziosa-ghirlanda-ven-ghesce-jampa-gelek-2/
END:VEVENT
BEGIN:VEVENT
DTSTART;TZID=Europe/Helsinki:20231107T203000
DTEND;TZID=Europe/Helsinki:20231107T220000
DTSTAMP:20260419T203827
CREATED:20230904T171822Z
LAST-MODIFIED:20230904T171822Z
UID:2442-1699389000-1699394400@cltktreviso.org
SUMMARY:Pratica dello Tzog
DESCRIPTION:Pratica dello Tzog. Ore 20:30 (solo in presenza).
URL:https://cltktreviso.org/eventi/pratica-dello-tzog-4/
END:VEVENT
BEGIN:VEVENT
DTSTART;TZID=Europe/Helsinki:20231104T060000
DTEND;TZID=Europe/Helsinki:20231104T210000
DTSTAMP:20260419T203827
CREATED:20231104T005449Z
LAST-MODIFIED:20231104T005602Z
UID:2482-1699077600-1699131600@cltktreviso.org
SUMMARY:Lhabab Düchen
DESCRIPTION:Il ventiduesimo giorno del nono mese del calendario tibetano\, è una delle quattro festività che commemorano eventi importanti della vita di Buddha Śākyamuni\, precisamente la sua discesa sulla Terra di ritorno dal reame dei Trentatré Deva. \nIl Buddha si era recato in quella terra per impartire insegnamenti agli Dei e a sua madre Mahadevi\, per liberarla dal Samsara e ripagarla della sua gentilezza. \nIn questo giorno gli effetti delle azioni positive (o negative) compiute si moltiplicano di 100 milioni di volte. Fa parte della tradizione dedicarlo ad azioni virtuose e alla recitazione di preghiere. \n  \nPROGRAMMA: https://monasterobuddhista.it/events/lhabab-duchen-2023/
URL:https://cltktreviso.org/eventi/lhabab-duchen/
ATTACH;FMTTYPE=image/jpeg:https://cltktreviso.org/wp-content/uploads/2023/11/Lhabab-Düchen.jpeg
END:VEVENT
END:VCALENDAR